BEGIN:VCALENDAR
VERSION:2.0
PRODID:-//Arts Society of Kingston - ECPv6.15.20//NONSGML v1.0//EN
CALSCALE:GREGORIAN
METHOD:PUBLISH
X-WR-CALNAME:Arts Society of Kingston
X-ORIGINAL-URL:https://askforarts.org
X-WR-CALDESC:Events for Arts Society of Kingston
REFRESH-INTERVAL;VALUE=DURATION:PT1H
X-Robots-Tag:noindex
X-PUBLISHED-TTL:PT1H
BEGIN:VTIMEZONE
TZID:America/New_York
BEGIN:DAYLIGHT
TZOFFSETFROM:-0500
TZOFFSETTO:-0400
TZNAME:EDT
DTSTART:20250309T070000
END:DAYLIGHT
BEGIN:STANDARD
TZOFFSETFROM:-0400
TZOFFSETTO:-0500
TZNAME:EST
DTSTART:20251102T060000
END:STANDARD
BEGIN:DAYLIGHT
TZOFFSETFROM:-0500
TZOFFSETTO:-0400
TZNAME:EDT
DTSTART:20260308T070000
END:DAYLIGHT
BEGIN:STANDARD
TZOFFSETFROM:-0400
TZOFFSETTO:-0500
TZNAME:EST
DTSTART:20261101T060000
END:STANDARD
BEGIN:DAYLIGHT
TZOFFSETFROM:-0500
TZOFFSETTO:-0400
TZNAME:EDT
DTSTART:20270314T070000
END:DAYLIGHT
BEGIN:STANDARD
TZOFFSETFROM:-0400
TZOFFSETTO:-0500
TZNAME:EST
DTSTART:20271107T060000
END:STANDARD
END:VTIMEZONE
BEGIN:VEVENT
DTSTART;TZID=America/New_York:20260424T120000
DTEND;TZID=America/New_York:20260424T170000
DTSTAMP:20260422T091055
CREATED:20260322T213028Z
LAST-MODIFIED:20260322T213123Z
UID:10000449-1777032000-1777050000@askforarts.org
SUMMARY:Two Seasons
DESCRIPTION:Two Seasons\n\n\n\nTed Dixon\n\n\n\n\nShowing in the Front Gallery \n\n\n\n\n\nOpening Reception April 4th @ 3pm\n\n\n\nExhibition April 4 – 26\, 2026\n\n\n\nASK Gallery Hours: Fri – Sun\, Noon – 5pm \n\n\n\n\n\nTed Dixon’s solo exhibition Two Seasons features abstract paintings inspired by the cyclical rhythms of shared human existence. \n\n\n\n“As with art\, the change in seasons provides opportunities for reflection\,” Dixon writes. “If we had no winter\, walking barefoot on a warm sandy beach would take us to a very different place.” \n\n\n\nBorn in New York City in 1953\, Dixon has lived in the Hudson Valley since 1992 and in Rosendale since 2009. He studied at Fordham University\, the Fashion Institute of Technology\, and the School of Visual Arts. After a 25-year career as a web designer\, Dixon began dedicating himself fully to his artistic practice in 2009. \n\n\n\nHis work has been exhibited at Montgomery Row Art Space (Rhinebeck)\, Woodstock Artists Association & Museum\, ADS Gallery (Newburgh)\, Arts Society of Kingston\, Gallery at the Rosendale Theatre\, and Albany Center Gallery. \n\n\n\nDixon is a Black painter working primarily in abstraction. His work explores perception and memory through layered visual compositions. “How do we learn to see what we cannot yet see?” he asks. “My paintings attempt to capture moments in time shaped by personal experience.”
URL:https://askforarts.org/event/two-seasons/2026-04-24/
CATEGORIES:Monthly Show
ATTACH;FMTTYPE=image/jpeg:https://askforarts.org/wp-content/uploads/2026/03/Two_Seasons_Dixon.jpg
END:VEVENT
BEGIN:VEVENT
DTSTART;TZID=America/New_York:20260425T120000
DTEND;TZID=America/New_York:20260425T170000
DTSTAMP:20260422T091055
CREATED:20260322T213028Z
LAST-MODIFIED:20260322T213123Z
UID:10000450-1777118400-1777136400@askforarts.org
SUMMARY:Two Seasons
DESCRIPTION:Two Seasons\n\n\n\nTed Dixon\n\n\n\n\nShowing in the Front Gallery \n\n\n\n\n\nOpening Reception April 4th @ 3pm\n\n\n\nExhibition April 4 – 26\, 2026\n\n\n\nASK Gallery Hours: Fri – Sun\, Noon – 5pm \n\n\n\n\n\nTed Dixon’s solo exhibition Two Seasons features abstract paintings inspired by the cyclical rhythms of shared human existence. \n\n\n\n“As with art\, the change in seasons provides opportunities for reflection\,” Dixon writes. “If we had no winter\, walking barefoot on a warm sandy beach would take us to a very different place.” \n\n\n\nBorn in New York City in 1953\, Dixon has lived in the Hudson Valley since 1992 and in Rosendale since 2009. He studied at Fordham University\, the Fashion Institute of Technology\, and the School of Visual Arts. After a 25-year career as a web designer\, Dixon began dedicating himself fully to his artistic practice in 2009. \n\n\n\nHis work has been exhibited at Montgomery Row Art Space (Rhinebeck)\, Woodstock Artists Association & Museum\, ADS Gallery (Newburgh)\, Arts Society of Kingston\, Gallery at the Rosendale Theatre\, and Albany Center Gallery. \n\n\n\nDixon is a Black painter working primarily in abstraction. His work explores perception and memory through layered visual compositions. “How do we learn to see what we cannot yet see?” he asks. “My paintings attempt to capture moments in time shaped by personal experience.”
URL:https://askforarts.org/event/two-seasons/2026-04-25/
CATEGORIES:Monthly Show
ATTACH;FMTTYPE=image/jpeg:https://askforarts.org/wp-content/uploads/2026/03/Two_Seasons_Dixon.jpg
END:VEVENT
BEGIN:VEVENT
DTSTART;TZID=America/New_York:20260426T120000
DTEND;TZID=America/New_York:20260426T170000
DTSTAMP:20260422T091055
CREATED:20260322T213028Z
LAST-MODIFIED:20260322T213123Z
UID:10000451-1777204800-1777222800@askforarts.org
SUMMARY:Two Seasons
DESCRIPTION:Two Seasons\n\n\n\nTed Dixon\n\n\n\n\nShowing in the Front Gallery \n\n\n\n\n\nOpening Reception April 4th @ 3pm\n\n\n\nExhibition April 4 – 26\, 2026\n\n\n\nASK Gallery Hours: Fri – Sun\, Noon – 5pm \n\n\n\n\n\nTed Dixon’s solo exhibition Two Seasons features abstract paintings inspired by the cyclical rhythms of shared human existence. \n\n\n\n“As with art\, the change in seasons provides opportunities for reflection\,” Dixon writes. “If we had no winter\, walking barefoot on a warm sandy beach would take us to a very different place.” \n\n\n\nBorn in New York City in 1953\, Dixon has lived in the Hudson Valley since 1992 and in Rosendale since 2009. He studied at Fordham University\, the Fashion Institute of Technology\, and the School of Visual Arts. After a 25-year career as a web designer\, Dixon began dedicating himself fully to his artistic practice in 2009. \n\n\n\nHis work has been exhibited at Montgomery Row Art Space (Rhinebeck)\, Woodstock Artists Association & Museum\, ADS Gallery (Newburgh)\, Arts Society of Kingston\, Gallery at the Rosendale Theatre\, and Albany Center Gallery. \n\n\n\nDixon is a Black painter working primarily in abstraction. His work explores perception and memory through layered visual compositions. “How do we learn to see what we cannot yet see?” he asks. “My paintings attempt to capture moments in time shaped by personal experience.”
URL:https://askforarts.org/event/two-seasons/2026-04-26/
CATEGORIES:Monthly Show
ATTACH;FMTTYPE=image/jpeg:https://askforarts.org/wp-content/uploads/2026/03/Two_Seasons_Dixon.jpg
END:VEVENT
END:VCALENDAR