BEGIN:VCALENDAR
VERSION:2.0
PRODID:-//Arts Society of Kingston - ECPv6.15.20//NONSGML v1.0//EN
CALSCALE:GREGORIAN
METHOD:PUBLISH
X-WR-CALNAME:Arts Society of Kingston
X-ORIGINAL-URL:https://askforarts.org
X-WR-CALDESC:Events for Arts Society of Kingston
REFRESH-INTERVAL;VALUE=DURATION:PT1H
X-Robots-Tag:noindex
X-PUBLISHED-TTL:PT1H
BEGIN:VTIMEZONE
TZID:America/New_York
BEGIN:DAYLIGHT
TZOFFSETFROM:-0500
TZOFFSETTO:-0400
TZNAME:EDT
DTSTART:20250309T070000
END:DAYLIGHT
BEGIN:STANDARD
TZOFFSETFROM:-0400
TZOFFSETTO:-0500
TZNAME:EST
DTSTART:20251102T060000
END:STANDARD
BEGIN:DAYLIGHT
TZOFFSETFROM:-0500
TZOFFSETTO:-0400
TZNAME:EDT
DTSTART:20260308T070000
END:DAYLIGHT
BEGIN:STANDARD
TZOFFSETFROM:-0400
TZOFFSETTO:-0500
TZNAME:EST
DTSTART:20261101T060000
END:STANDARD
BEGIN:DAYLIGHT
TZOFFSETFROM:-0500
TZOFFSETTO:-0400
TZNAME:EDT
DTSTART:20270314T070000
END:DAYLIGHT
BEGIN:STANDARD
TZOFFSETFROM:-0400
TZOFFSETTO:-0500
TZNAME:EST
DTSTART:20271107T060000
END:STANDARD
END:VTIMEZONE
BEGIN:VEVENT
DTSTART;TZID=America/New_York:20260422T180000
DTEND;TZID=America/New_York:20260422T210000
DTSTAMP:20260422T072916
CREATED:20260404T151910Z
LAST-MODIFIED:20260404T151912Z
UID:10000454-1776880800-1776891600@askforarts.org
SUMMARY:Hudson Valley Improv
DESCRIPTION:Hudson Valley Improv\n\n\n\n\nAt The Arts Society of Kingston \n\n\n\n\n\nWednesdays\, April 1 – April 22\, 6-9PM\n\n\n\nMondays\, May 4 – May 25\, 6-9PM\n\n\n\nWednesdays\, June 3 – June 24\, 6-9PM\n\n\n\n\n\n\nHudson Valley Improv is right here at ASK!  Come see one of their award-winning shows—always fast\, funny\, and completely made up on the spot. Or jump into one of their improv classes\, designed for adults of all levels\, where you’ll laugh\, connect\, and surprise yourself with what you can do. Looking for something more personal? They also offer private coaching for solo shows and team training that brings people together\, builds confidence\, and makes communication easier and more fun. \n\n\n\nThese classes sell out quickly! Sign up now! \n\n\n\nSIGN UP HERE \n\n\n\nTickets & booking information at www.hudsonvalleyimprov.com
URL:https://askforarts.org/event/hudson-valley-improv-4/2026-04-22/
CATEGORIES:Weekly Events
ATTACH;FMTTYPE=image/jpeg:https://askforarts.org/wp-content/uploads/2025/12/classes.jpg
END:VEVENT
BEGIN:VEVENT
DTSTART;TZID=America/New_York:20260504T180000
DTEND;TZID=America/New_York:20260504T210000
DTSTAMP:20260422T072916
CREATED:20260322T230603Z
LAST-MODIFIED:20260404T151705Z
UID:10000459-1777917600-1777928400@askforarts.org
SUMMARY:Hudson Valley Improv
DESCRIPTION:Hudson Valley Improv\n\n\n\n\nAt The Arts Society of Kingston \n\n\n\n\n\nWednesdays\, April 1 – April 22\, 6-9PM\n\n\n\nMondays\, May 4 – May 25\, 6-9PM\n\n\n\nWednesdays\, June 3 – June 24\, 6-9PM\n\n\n\n\n\n\nHudson Valley Improv is right here at ASK!  Come see one of their award-winning shows—always fast\, funny\, and completely made up on the spot. Or jump into one of their improv classes\, designed for adults of all levels\, where you’ll laugh\, connect\, and surprise yourself with what you can do. Looking for something more personal? They also offer private coaching for solo shows and team training that brings people together\, builds confidence\, and makes communication easier and more fun. \n\n\n\nThese classes sell out quickly! Sign up now! \n\n\n\nSIGN UP HERE \n\n\n\nTickets & booking information at www.hudsonvalleyimprov.com
URL:https://askforarts.org/event/hudson-valley-improv-2/2026-05-04/
CATEGORIES:Weekly Events
ATTACH;FMTTYPE=image/jpeg:https://askforarts.org/wp-content/uploads/2025/12/classes.jpg
END:VEVENT
BEGIN:VEVENT
DTSTART;TZID=America/New_York:20260511T180000
DTEND;TZID=America/New_York:20260511T210000
DTSTAMP:20260422T072916
CREATED:20260322T230603Z
LAST-MODIFIED:20260404T151705Z
UID:10000460-1778522400-1778533200@askforarts.org
SUMMARY:Hudson Valley Improv
DESCRIPTION:Hudson Valley Improv\n\n\n\n\nAt The Arts Society of Kingston \n\n\n\n\n\nWednesdays\, April 1 – April 22\, 6-9PM\n\n\n\nMondays\, May 4 – May 25\, 6-9PM\n\n\n\nWednesdays\, June 3 – June 24\, 6-9PM\n\n\n\n\n\n\nHudson Valley Improv is right here at ASK!  Come see one of their award-winning shows—always fast\, funny\, and completely made up on the spot. Or jump into one of their improv classes\, designed for adults of all levels\, where you’ll laugh\, connect\, and surprise yourself with what you can do. Looking for something more personal? They also offer private coaching for solo shows and team training that brings people together\, builds confidence\, and makes communication easier and more fun. \n\n\n\nThese classes sell out quickly! Sign up now! \n\n\n\nSIGN UP HERE \n\n\n\nTickets & booking information at www.hudsonvalleyimprov.com
URL:https://askforarts.org/event/hudson-valley-improv-2/2026-05-11/
CATEGORIES:Weekly Events
ATTACH;FMTTYPE=image/jpeg:https://askforarts.org/wp-content/uploads/2025/12/classes.jpg
END:VEVENT
BEGIN:VEVENT
DTSTART;TZID=America/New_York:20260518T180000
DTEND;TZID=America/New_York:20260518T210000
DTSTAMP:20260422T072916
CREATED:20260322T230603Z
LAST-MODIFIED:20260404T151705Z
UID:10000461-1779127200-1779138000@askforarts.org
SUMMARY:Hudson Valley Improv
DESCRIPTION:Hudson Valley Improv\n\n\n\n\nAt The Arts Society of Kingston \n\n\n\n\n\nWednesdays\, April 1 – April 22\, 6-9PM\n\n\n\nMondays\, May 4 – May 25\, 6-9PM\n\n\n\nWednesdays\, June 3 – June 24\, 6-9PM\n\n\n\n\n\n\nHudson Valley Improv is right here at ASK!  Come see one of their award-winning shows—always fast\, funny\, and completely made up on the spot. Or jump into one of their improv classes\, designed for adults of all levels\, where you’ll laugh\, connect\, and surprise yourself with what you can do. Looking for something more personal? They also offer private coaching for solo shows and team training that brings people together\, builds confidence\, and makes communication easier and more fun. \n\n\n\nThese classes sell out quickly! Sign up now! \n\n\n\nSIGN UP HERE \n\n\n\nTickets & booking information at www.hudsonvalleyimprov.com
URL:https://askforarts.org/event/hudson-valley-improv-2/2026-05-18/
CATEGORIES:Weekly Events
ATTACH;FMTTYPE=image/jpeg:https://askforarts.org/wp-content/uploads/2025/12/classes.jpg
END:VEVENT
BEGIN:VEVENT
DTSTART;TZID=America/New_York:20260525T180000
DTEND;TZID=America/New_York:20260525T210000
DTSTAMP:20260422T072916
CREATED:20260322T230603Z
LAST-MODIFIED:20260404T151705Z
UID:10000462-1779732000-1779742800@askforarts.org
SUMMARY:Hudson Valley Improv
DESCRIPTION:Hudson Valley Improv\n\n\n\n\nAt The Arts Society of Kingston \n\n\n\n\n\nWednesdays\, April 1 – April 22\, 6-9PM\n\n\n\nMondays\, May 4 – May 25\, 6-9PM\n\n\n\nWednesdays\, June 3 – June 24\, 6-9PM\n\n\n\n\n\n\nHudson Valley Improv is right here at ASK!  Come see one of their award-winning shows—always fast\, funny\, and completely made up on the spot. Or jump into one of their improv classes\, designed for adults of all levels\, where you’ll laugh\, connect\, and surprise yourself with what you can do. Looking for something more personal? They also offer private coaching for solo shows and team training that brings people together\, builds confidence\, and makes communication easier and more fun. \n\n\n\nThese classes sell out quickly! Sign up now! \n\n\n\nSIGN UP HERE \n\n\n\nTickets & booking information at www.hudsonvalleyimprov.com
URL:https://askforarts.org/event/hudson-valley-improv-2/2026-05-25/
CATEGORIES:Weekly Events
ATTACH;FMTTYPE=image/jpeg:https://askforarts.org/wp-content/uploads/2025/12/classes.jpg
END:VEVENT
END:VCALENDAR