BEGIN:VCALENDAR
VERSION:2.0
PRODID:-//Arts Society of Kingston - ECPv6.15.20//NONSGML v1.0//EN
CALSCALE:GREGORIAN
METHOD:PUBLISH
X-WR-CALNAME:Arts Society of Kingston
X-ORIGINAL-URL:https://askforarts.org
X-WR-CALDESC:Events for Arts Society of Kingston
REFRESH-INTERVAL;VALUE=DURATION:PT1H
X-Robots-Tag:noindex
X-PUBLISHED-TTL:PT1H
BEGIN:VTIMEZONE
TZID:America/New_York
BEGIN:DAYLIGHT
TZOFFSETFROM:-0500
TZOFFSETTO:-0400
TZNAME:EDT
DTSTART:20250309T070000
END:DAYLIGHT
BEGIN:STANDARD
TZOFFSETFROM:-0400
TZOFFSETTO:-0500
TZNAME:EST
DTSTART:20251102T060000
END:STANDARD
BEGIN:DAYLIGHT
TZOFFSETFROM:-0500
TZOFFSETTO:-0400
TZNAME:EDT
DTSTART:20260308T070000
END:DAYLIGHT
BEGIN:STANDARD
TZOFFSETFROM:-0400
TZOFFSETTO:-0500
TZNAME:EST
DTSTART:20261101T060000
END:STANDARD
BEGIN:DAYLIGHT
TZOFFSETFROM:-0500
TZOFFSETTO:-0400
TZNAME:EDT
DTSTART:20270314T070000
END:DAYLIGHT
BEGIN:STANDARD
TZOFFSETFROM:-0400
TZOFFSETTO:-0500
TZNAME:EST
DTSTART:20271107T060000
END:STANDARD
END:VTIMEZONE
BEGIN:VEVENT
DTSTART;TZID=America/New_York:20260428T180000
DTEND;TZID=America/New_York:20260428T210000
DTSTAMP:20260422T071651
CREATED:20260323T005842Z
LAST-MODIFIED:20260323T010041Z
UID:10000041-1777399200-1777410000@askforarts.org
SUMMARY:Got2Lindy Swing Dance Classes
DESCRIPTION:Got2Lindy Swing Dance Lessons \n\n\n\nBeginner to Advance\n\n\n\n\nEvery Tuesday Night @ ASK6pm-9pm \n\n\n\n\n4-week sessions:6:00 pm – 7:00 pm: Beginner Swing7:00 pm – 8:00 pm: Intermediate Swing8:00 pm – 9:00 pm: Advanced Swing \n\n\n\nRegister Here!
URL:https://askforarts.org/event/got2lindy-swing-dance-classes-3/2026-04-28/
CATEGORIES:Weekly Events
ATTACH;FMTTYPE=image/jpeg:https://askforarts.org/wp-content/uploads/2026/03/Got2Lindy_bigger.jpg
END:VEVENT
BEGIN:VEVENT
DTSTART;TZID=America/New_York:20260505T180000
DTEND;TZID=America/New_York:20260505T210000
DTSTAMP:20260422T071651
CREATED:20260323T005842Z
LAST-MODIFIED:20260323T010041Z
UID:10000042-1778004000-1778014800@askforarts.org
SUMMARY:Got2Lindy Swing Dance Classes
DESCRIPTION:Got2Lindy Swing Dance Lessons \n\n\n\nBeginner to Advance\n\n\n\n\nEvery Tuesday Night @ ASK6pm-9pm \n\n\n\n\n4-week sessions:6:00 pm – 7:00 pm: Beginner Swing7:00 pm – 8:00 pm: Intermediate Swing8:00 pm – 9:00 pm: Advanced Swing \n\n\n\nRegister Here!
URL:https://askforarts.org/event/got2lindy-swing-dance-classes-3/2026-05-05/
CATEGORIES:Weekly Events
ATTACH;FMTTYPE=image/jpeg:https://askforarts.org/wp-content/uploads/2026/03/Got2Lindy_bigger.jpg
END:VEVENT
BEGIN:VEVENT
DTSTART;TZID=America/New_York:20260512T180000
DTEND;TZID=America/New_York:20260512T210000
DTSTAMP:20260422T071651
CREATED:20260323T005842Z
LAST-MODIFIED:20260323T010041Z
UID:10000043-1778608800-1778619600@askforarts.org
SUMMARY:Got2Lindy Swing Dance Classes
DESCRIPTION:Got2Lindy Swing Dance Lessons \n\n\n\nBeginner to Advance\n\n\n\n\nEvery Tuesday Night @ ASK6pm-9pm \n\n\n\n\n4-week sessions:6:00 pm – 7:00 pm: Beginner Swing7:00 pm – 8:00 pm: Intermediate Swing8:00 pm – 9:00 pm: Advanced Swing \n\n\n\nRegister Here!
URL:https://askforarts.org/event/got2lindy-swing-dance-classes-3/2026-05-12/
CATEGORIES:Weekly Events
ATTACH;FMTTYPE=image/jpeg:https://askforarts.org/wp-content/uploads/2026/03/Got2Lindy_bigger.jpg
END:VEVENT
BEGIN:VEVENT
DTSTART;TZID=America/New_York:20260519T180000
DTEND;TZID=America/New_York:20260519T210000
DTSTAMP:20260422T071651
CREATED:20260323T005842Z
LAST-MODIFIED:20260323T010041Z
UID:10000044-1779213600-1779224400@askforarts.org
SUMMARY:Got2Lindy Swing Dance Classes
DESCRIPTION:Got2Lindy Swing Dance Lessons \n\n\n\nBeginner to Advance\n\n\n\n\nEvery Tuesday Night @ ASK6pm-9pm \n\n\n\n\n4-week sessions:6:00 pm – 7:00 pm: Beginner Swing7:00 pm – 8:00 pm: Intermediate Swing8:00 pm – 9:00 pm: Advanced Swing \n\n\n\nRegister Here!
URL:https://askforarts.org/event/got2lindy-swing-dance-classes-3/2026-05-19/
CATEGORIES:Weekly Events
ATTACH;FMTTYPE=image/jpeg:https://askforarts.org/wp-content/uploads/2026/03/Got2Lindy_bigger.jpg
END:VEVENT
BEGIN:VEVENT
DTSTART;TZID=America/New_York:20260526T180000
DTEND;TZID=America/New_York:20260526T210000
DTSTAMP:20260422T071651
CREATED:20260323T005842Z
LAST-MODIFIED:20260323T010041Z
UID:10000045-1779818400-1779829200@askforarts.org
SUMMARY:Got2Lindy Swing Dance Classes
DESCRIPTION:Got2Lindy Swing Dance Lessons \n\n\n\nBeginner to Advance\n\n\n\n\nEvery Tuesday Night @ ASK6pm-9pm \n\n\n\n\n4-week sessions:6:00 pm – 7:00 pm: Beginner Swing7:00 pm – 8:00 pm: Intermediate Swing8:00 pm – 9:00 pm: Advanced Swing \n\n\n\nRegister Here!
URL:https://askforarts.org/event/got2lindy-swing-dance-classes-3/2026-05-26/
CATEGORIES:Weekly Events
ATTACH;FMTTYPE=image/jpeg:https://askforarts.org/wp-content/uploads/2026/03/Got2Lindy_bigger.jpg
END:VEVENT
BEGIN:VEVENT
DTSTART;TZID=America/New_York:20260602T180000
DTEND;TZID=America/New_York:20260602T210000
DTSTAMP:20260422T071651
CREATED:20260323T005842Z
LAST-MODIFIED:20260323T010041Z
UID:10000046-1780423200-1780434000@askforarts.org
SUMMARY:Got2Lindy Swing Dance Classes
DESCRIPTION:Got2Lindy Swing Dance Lessons \n\n\n\nBeginner to Advance\n\n\n\n\nEvery Tuesday Night @ ASK6pm-9pm \n\n\n\n\n4-week sessions:6:00 pm – 7:00 pm: Beginner Swing7:00 pm – 8:00 pm: Intermediate Swing8:00 pm – 9:00 pm: Advanced Swing \n\n\n\nRegister Here!
URL:https://askforarts.org/event/got2lindy-swing-dance-classes-3/2026-06-02/
CATEGORIES:Weekly Events
ATTACH;FMTTYPE=image/jpeg:https://askforarts.org/wp-content/uploads/2026/03/Got2Lindy_bigger.jpg
END:VEVENT
BEGIN:VEVENT
DTSTART;TZID=America/New_York:20260609T180000
DTEND;TZID=America/New_York:20260609T210000
DTSTAMP:20260422T071651
CREATED:20260323T005842Z
LAST-MODIFIED:20260323T010041Z
UID:10000047-1781028000-1781038800@askforarts.org
SUMMARY:Got2Lindy Swing Dance Classes
DESCRIPTION:Got2Lindy Swing Dance Lessons \n\n\n\nBeginner to Advance\n\n\n\n\nEvery Tuesday Night @ ASK6pm-9pm \n\n\n\n\n4-week sessions:6:00 pm – 7:00 pm: Beginner Swing7:00 pm – 8:00 pm: Intermediate Swing8:00 pm – 9:00 pm: Advanced Swing \n\n\n\nRegister Here!
URL:https://askforarts.org/event/got2lindy-swing-dance-classes-3/2026-06-09/
CATEGORIES:Weekly Events
ATTACH;FMTTYPE=image/jpeg:https://askforarts.org/wp-content/uploads/2026/03/Got2Lindy_bigger.jpg
END:VEVENT
BEGIN:VEVENT
DTSTART;TZID=America/New_York:20260616T180000
DTEND;TZID=America/New_York:20260616T210000
DTSTAMP:20260422T071651
CREATED:20260323T005842Z
LAST-MODIFIED:20260323T010041Z
UID:10000048-1781632800-1781643600@askforarts.org
SUMMARY:Got2Lindy Swing Dance Classes
DESCRIPTION:Got2Lindy Swing Dance Lessons \n\n\n\nBeginner to Advance\n\n\n\n\nEvery Tuesday Night @ ASK6pm-9pm \n\n\n\n\n4-week sessions:6:00 pm – 7:00 pm: Beginner Swing7:00 pm – 8:00 pm: Intermediate Swing8:00 pm – 9:00 pm: Advanced Swing \n\n\n\nRegister Here!
URL:https://askforarts.org/event/got2lindy-swing-dance-classes-3/2026-06-16/
CATEGORIES:Weekly Events
ATTACH;FMTTYPE=image/jpeg:https://askforarts.org/wp-content/uploads/2026/03/Got2Lindy_bigger.jpg
END:VEVENT
BEGIN:VEVENT
DTSTART;TZID=America/New_York:20260623T180000
DTEND;TZID=America/New_York:20260623T210000
DTSTAMP:20260422T071651
CREATED:20260323T005842Z
LAST-MODIFIED:20260323T010041Z
UID:10000049-1782237600-1782248400@askforarts.org
SUMMARY:Got2Lindy Swing Dance Classes
DESCRIPTION:Got2Lindy Swing Dance Lessons \n\n\n\nBeginner to Advance\n\n\n\n\nEvery Tuesday Night @ ASK6pm-9pm \n\n\n\n\n4-week sessions:6:00 pm – 7:00 pm: Beginner Swing7:00 pm – 8:00 pm: Intermediate Swing8:00 pm – 9:00 pm: Advanced Swing \n\n\n\nRegister Here!
URL:https://askforarts.org/event/got2lindy-swing-dance-classes-3/2026-06-23/
CATEGORIES:Weekly Events
ATTACH;FMTTYPE=image/jpeg:https://askforarts.org/wp-content/uploads/2026/03/Got2Lindy_bigger.jpg
END:VEVENT
BEGIN:VEVENT
DTSTART;TZID=America/New_York:20260630T180000
DTEND;TZID=America/New_York:20260630T210000
DTSTAMP:20260422T071651
CREATED:20260323T005842Z
LAST-MODIFIED:20260323T010041Z
UID:10000050-1782842400-1782853200@askforarts.org
SUMMARY:Got2Lindy Swing Dance Classes
DESCRIPTION:Got2Lindy Swing Dance Lessons \n\n\n\nBeginner to Advance\n\n\n\n\nEvery Tuesday Night @ ASK6pm-9pm \n\n\n\n\n4-week sessions:6:00 pm – 7:00 pm: Beginner Swing7:00 pm – 8:00 pm: Intermediate Swing8:00 pm – 9:00 pm: Advanced Swing \n\n\n\nRegister Here!
URL:https://askforarts.org/event/got2lindy-swing-dance-classes-3/2026-06-30/
CATEGORIES:Weekly Events
ATTACH;FMTTYPE=image/jpeg:https://askforarts.org/wp-content/uploads/2026/03/Got2Lindy_bigger.jpg
END:VEVENT
BEGIN:VEVENT
DTSTART;TZID=America/New_York:20260707T180000
DTEND;TZID=America/New_York:20260707T210000
DTSTAMP:20260422T071651
CREATED:20260323T005842Z
LAST-MODIFIED:20260323T010041Z
UID:10000051-1783447200-1783458000@askforarts.org
SUMMARY:Got2Lindy Swing Dance Classes
DESCRIPTION:Got2Lindy Swing Dance Lessons \n\n\n\nBeginner to Advance\n\n\n\n\nEvery Tuesday Night @ ASK6pm-9pm \n\n\n\n\n4-week sessions:6:00 pm – 7:00 pm: Beginner Swing7:00 pm – 8:00 pm: Intermediate Swing8:00 pm – 9:00 pm: Advanced Swing \n\n\n\nRegister Here!
URL:https://askforarts.org/event/got2lindy-swing-dance-classes-3/2026-07-07/
CATEGORIES:Weekly Events
ATTACH;FMTTYPE=image/jpeg:https://askforarts.org/wp-content/uploads/2026/03/Got2Lindy_bigger.jpg
END:VEVENT
BEGIN:VEVENT
DTSTART;TZID=America/New_York:20260714T180000
DTEND;TZID=America/New_York:20260714T210000
DTSTAMP:20260422T071651
CREATED:20260323T005842Z
LAST-MODIFIED:20260323T010041Z
UID:10000052-1784052000-1784062800@askforarts.org
SUMMARY:Got2Lindy Swing Dance Classes
DESCRIPTION:Got2Lindy Swing Dance Lessons \n\n\n\nBeginner to Advance\n\n\n\n\nEvery Tuesday Night @ ASK6pm-9pm \n\n\n\n\n4-week sessions:6:00 pm – 7:00 pm: Beginner Swing7:00 pm – 8:00 pm: Intermediate Swing8:00 pm – 9:00 pm: Advanced Swing \n\n\n\nRegister Here!
URL:https://askforarts.org/event/got2lindy-swing-dance-classes-3/2026-07-14/
CATEGORIES:Weekly Events
ATTACH;FMTTYPE=image/jpeg:https://askforarts.org/wp-content/uploads/2026/03/Got2Lindy_bigger.jpg
END:VEVENT
BEGIN:VEVENT
DTSTART;TZID=America/New_York:20260721T180000
DTEND;TZID=America/New_York:20260721T210000
DTSTAMP:20260422T071651
CREATED:20260323T005842Z
LAST-MODIFIED:20260323T010041Z
UID:10000053-1784656800-1784667600@askforarts.org
SUMMARY:Got2Lindy Swing Dance Classes
DESCRIPTION:Got2Lindy Swing Dance Lessons \n\n\n\nBeginner to Advance\n\n\n\n\nEvery Tuesday Night @ ASK6pm-9pm \n\n\n\n\n4-week sessions:6:00 pm – 7:00 pm: Beginner Swing7:00 pm – 8:00 pm: Intermediate Swing8:00 pm – 9:00 pm: Advanced Swing \n\n\n\nRegister Here!
URL:https://askforarts.org/event/got2lindy-swing-dance-classes-3/2026-07-21/
CATEGORIES:Weekly Events
ATTACH;FMTTYPE=image/jpeg:https://askforarts.org/wp-content/uploads/2026/03/Got2Lindy_bigger.jpg
END:VEVENT
BEGIN:VEVENT
DTSTART;TZID=America/New_York:20260728T180000
DTEND;TZID=America/New_York:20260728T210000
DTSTAMP:20260422T071651
CREATED:20260323T005842Z
LAST-MODIFIED:20260323T010041Z
UID:10000054-1785261600-1785272400@askforarts.org
SUMMARY:Got2Lindy Swing Dance Classes
DESCRIPTION:Got2Lindy Swing Dance Lessons \n\n\n\nBeginner to Advance\n\n\n\n\nEvery Tuesday Night @ ASK6pm-9pm \n\n\n\n\n4-week sessions:6:00 pm – 7:00 pm: Beginner Swing7:00 pm – 8:00 pm: Intermediate Swing8:00 pm – 9:00 pm: Advanced Swing \n\n\n\nRegister Here!
URL:https://askforarts.org/event/got2lindy-swing-dance-classes-3/2026-07-28/
CATEGORIES:Weekly Events
ATTACH;FMTTYPE=image/jpeg:https://askforarts.org/wp-content/uploads/2026/03/Got2Lindy_bigger.jpg
END:VEVENT
BEGIN:VEVENT
DTSTART;TZID=America/New_York:20260804T180000
DTEND;TZID=America/New_York:20260804T210000
DTSTAMP:20260422T071651
CREATED:20260323T005842Z
LAST-MODIFIED:20260323T010041Z
UID:10000055-1785866400-1785877200@askforarts.org
SUMMARY:Got2Lindy Swing Dance Classes
DESCRIPTION:Got2Lindy Swing Dance Lessons \n\n\n\nBeginner to Advance\n\n\n\n\nEvery Tuesday Night @ ASK6pm-9pm \n\n\n\n\n4-week sessions:6:00 pm – 7:00 pm: Beginner Swing7:00 pm – 8:00 pm: Intermediate Swing8:00 pm – 9:00 pm: Advanced Swing \n\n\n\nRegister Here!
URL:https://askforarts.org/event/got2lindy-swing-dance-classes-3/2026-08-04/
CATEGORIES:Weekly Events
ATTACH;FMTTYPE=image/jpeg:https://askforarts.org/wp-content/uploads/2026/03/Got2Lindy_bigger.jpg
END:VEVENT
BEGIN:VEVENT
DTSTART;TZID=America/New_York:20260811T180000
DTEND;TZID=America/New_York:20260811T210000
DTSTAMP:20260422T071651
CREATED:20260323T005842Z
LAST-MODIFIED:20260323T010041Z
UID:10000056-1786471200-1786482000@askforarts.org
SUMMARY:Got2Lindy Swing Dance Classes
DESCRIPTION:Got2Lindy Swing Dance Lessons \n\n\n\nBeginner to Advance\n\n\n\n\nEvery Tuesday Night @ ASK6pm-9pm \n\n\n\n\n4-week sessions:6:00 pm – 7:00 pm: Beginner Swing7:00 pm – 8:00 pm: Intermediate Swing8:00 pm – 9:00 pm: Advanced Swing \n\n\n\nRegister Here!
URL:https://askforarts.org/event/got2lindy-swing-dance-classes-3/2026-08-11/
CATEGORIES:Weekly Events
ATTACH;FMTTYPE=image/jpeg:https://askforarts.org/wp-content/uploads/2026/03/Got2Lindy_bigger.jpg
END:VEVENT
BEGIN:VEVENT
DTSTART;TZID=America/New_York:20260818T180000
DTEND;TZID=America/New_York:20260818T210000
DTSTAMP:20260422T071651
CREATED:20260323T005842Z
LAST-MODIFIED:20260323T010041Z
UID:10000057-1787076000-1787086800@askforarts.org
SUMMARY:Got2Lindy Swing Dance Classes
DESCRIPTION:Got2Lindy Swing Dance Lessons \n\n\n\nBeginner to Advance\n\n\n\n\nEvery Tuesday Night @ ASK6pm-9pm \n\n\n\n\n4-week sessions:6:00 pm – 7:00 pm: Beginner Swing7:00 pm – 8:00 pm: Intermediate Swing8:00 pm – 9:00 pm: Advanced Swing \n\n\n\nRegister Here!
URL:https://askforarts.org/event/got2lindy-swing-dance-classes-3/2026-08-18/
CATEGORIES:Weekly Events
ATTACH;FMTTYPE=image/jpeg:https://askforarts.org/wp-content/uploads/2026/03/Got2Lindy_bigger.jpg
END:VEVENT
BEGIN:VEVENT
DTSTART;TZID=America/New_York:20260825T180000
DTEND;TZID=America/New_York:20260825T210000
DTSTAMP:20260422T071651
CREATED:20260323T005842Z
LAST-MODIFIED:20260323T010041Z
UID:10000058-1787680800-1787691600@askforarts.org
SUMMARY:Got2Lindy Swing Dance Classes
DESCRIPTION:Got2Lindy Swing Dance Lessons \n\n\n\nBeginner to Advance\n\n\n\n\nEvery Tuesday Night @ ASK6pm-9pm \n\n\n\n\n4-week sessions:6:00 pm – 7:00 pm: Beginner Swing7:00 pm – 8:00 pm: Intermediate Swing8:00 pm – 9:00 pm: Advanced Swing \n\n\n\nRegister Here!
URL:https://askforarts.org/event/got2lindy-swing-dance-classes-3/2026-08-25/
CATEGORIES:Weekly Events
ATTACH;FMTTYPE=image/jpeg:https://askforarts.org/wp-content/uploads/2026/03/Got2Lindy_bigger.jpg
END:VEVENT
BEGIN:VEVENT
DTSTART;TZID=America/New_York:20260901T180000
DTEND;TZID=America/New_York:20260901T210000
DTSTAMP:20260422T071651
CREATED:20260323T005842Z
LAST-MODIFIED:20260323T010041Z
UID:10000059-1788285600-1788296400@askforarts.org
SUMMARY:Got2Lindy Swing Dance Classes
DESCRIPTION:Got2Lindy Swing Dance Lessons \n\n\n\nBeginner to Advance\n\n\n\n\nEvery Tuesday Night @ ASK6pm-9pm \n\n\n\n\n4-week sessions:6:00 pm – 7:00 pm: Beginner Swing7:00 pm – 8:00 pm: Intermediate Swing8:00 pm – 9:00 pm: Advanced Swing \n\n\n\nRegister Here!
URL:https://askforarts.org/event/got2lindy-swing-dance-classes-3/2026-09-01/
CATEGORIES:Weekly Events
ATTACH;FMTTYPE=image/jpeg:https://askforarts.org/wp-content/uploads/2026/03/Got2Lindy_bigger.jpg
END:VEVENT
BEGIN:VEVENT
DTSTART;TZID=America/New_York:20260908T180000
DTEND;TZID=America/New_York:20260908T210000
DTSTAMP:20260422T071651
CREATED:20260323T005842Z
LAST-MODIFIED:20260323T010041Z
UID:10000060-1788890400-1788901200@askforarts.org
SUMMARY:Got2Lindy Swing Dance Classes
DESCRIPTION:Got2Lindy Swing Dance Lessons \n\n\n\nBeginner to Advance\n\n\n\n\nEvery Tuesday Night @ ASK6pm-9pm \n\n\n\n\n4-week sessions:6:00 pm – 7:00 pm: Beginner Swing7:00 pm – 8:00 pm: Intermediate Swing8:00 pm – 9:00 pm: Advanced Swing \n\n\n\nRegister Here!
URL:https://askforarts.org/event/got2lindy-swing-dance-classes-3/2026-09-08/
CATEGORIES:Weekly Events
ATTACH;FMTTYPE=image/jpeg:https://askforarts.org/wp-content/uploads/2026/03/Got2Lindy_bigger.jpg
END:VEVENT
BEGIN:VEVENT
DTSTART;TZID=America/New_York:20260915T180000
DTEND;TZID=America/New_York:20260915T210000
DTSTAMP:20260422T071651
CREATED:20260323T005842Z
LAST-MODIFIED:20260323T010041Z
UID:10000061-1789495200-1789506000@askforarts.org
SUMMARY:Got2Lindy Swing Dance Classes
DESCRIPTION:Got2Lindy Swing Dance Lessons \n\n\n\nBeginner to Advance\n\n\n\n\nEvery Tuesday Night @ ASK6pm-9pm \n\n\n\n\n4-week sessions:6:00 pm – 7:00 pm: Beginner Swing7:00 pm – 8:00 pm: Intermediate Swing8:00 pm – 9:00 pm: Advanced Swing \n\n\n\nRegister Here!
URL:https://askforarts.org/event/got2lindy-swing-dance-classes-3/2026-09-15/
CATEGORIES:Weekly Events
ATTACH;FMTTYPE=image/jpeg:https://askforarts.org/wp-content/uploads/2026/03/Got2Lindy_bigger.jpg
END:VEVENT
BEGIN:VEVENT
DTSTART;TZID=America/New_York:20260922T180000
DTEND;TZID=America/New_York:20260922T210000
DTSTAMP:20260422T071651
CREATED:20260323T005842Z
LAST-MODIFIED:20260323T010041Z
UID:10000062-1790100000-1790110800@askforarts.org
SUMMARY:Got2Lindy Swing Dance Classes
DESCRIPTION:Got2Lindy Swing Dance Lessons \n\n\n\nBeginner to Advance\n\n\n\n\nEvery Tuesday Night @ ASK6pm-9pm \n\n\n\n\n4-week sessions:6:00 pm – 7:00 pm: Beginner Swing7:00 pm – 8:00 pm: Intermediate Swing8:00 pm – 9:00 pm: Advanced Swing \n\n\n\nRegister Here!
URL:https://askforarts.org/event/got2lindy-swing-dance-classes-3/2026-09-22/
CATEGORIES:Weekly Events
ATTACH;FMTTYPE=image/jpeg:https://askforarts.org/wp-content/uploads/2026/03/Got2Lindy_bigger.jpg
END:VEVENT
BEGIN:VEVENT
DTSTART;TZID=America/New_York:20260929T180000
DTEND;TZID=America/New_York:20260929T210000
DTSTAMP:20260422T071651
CREATED:20260323T005842Z
LAST-MODIFIED:20260323T010041Z
UID:10000063-1790704800-1790715600@askforarts.org
SUMMARY:Got2Lindy Swing Dance Classes
DESCRIPTION:Got2Lindy Swing Dance Lessons \n\n\n\nBeginner to Advance\n\n\n\n\nEvery Tuesday Night @ ASK6pm-9pm \n\n\n\n\n4-week sessions:6:00 pm – 7:00 pm: Beginner Swing7:00 pm – 8:00 pm: Intermediate Swing8:00 pm – 9:00 pm: Advanced Swing \n\n\n\nRegister Here!
URL:https://askforarts.org/event/got2lindy-swing-dance-classes-3/2026-09-29/
CATEGORIES:Weekly Events
ATTACH;FMTTYPE=image/jpeg:https://askforarts.org/wp-content/uploads/2026/03/Got2Lindy_bigger.jpg
END:VEVENT
BEGIN:VEVENT
DTSTART;TZID=America/New_York:20261006T180000
DTEND;TZID=America/New_York:20261006T210000
DTSTAMP:20260422T071651
CREATED:20260323T005842Z
LAST-MODIFIED:20260323T010041Z
UID:10000064-1791309600-1791320400@askforarts.org
SUMMARY:Got2Lindy Swing Dance Classes
DESCRIPTION:Got2Lindy Swing Dance Lessons \n\n\n\nBeginner to Advance\n\n\n\n\nEvery Tuesday Night @ ASK6pm-9pm \n\n\n\n\n4-week sessions:6:00 pm – 7:00 pm: Beginner Swing7:00 pm – 8:00 pm: Intermediate Swing8:00 pm – 9:00 pm: Advanced Swing \n\n\n\nRegister Here!
URL:https://askforarts.org/event/got2lindy-swing-dance-classes-3/2026-10-06/
CATEGORIES:Weekly Events
ATTACH;FMTTYPE=image/jpeg:https://askforarts.org/wp-content/uploads/2026/03/Got2Lindy_bigger.jpg
END:VEVENT
BEGIN:VEVENT
DTSTART;TZID=America/New_York:20261013T180000
DTEND;TZID=America/New_York:20261013T210000
DTSTAMP:20260422T071651
CREATED:20260323T005842Z
LAST-MODIFIED:20260323T010041Z
UID:10000065-1791914400-1791925200@askforarts.org
SUMMARY:Got2Lindy Swing Dance Classes
DESCRIPTION:Got2Lindy Swing Dance Lessons \n\n\n\nBeginner to Advance\n\n\n\n\nEvery Tuesday Night @ ASK6pm-9pm \n\n\n\n\n4-week sessions:6:00 pm – 7:00 pm: Beginner Swing7:00 pm – 8:00 pm: Intermediate Swing8:00 pm – 9:00 pm: Advanced Swing \n\n\n\nRegister Here!
URL:https://askforarts.org/event/got2lindy-swing-dance-classes-3/2026-10-13/
CATEGORIES:Weekly Events
ATTACH;FMTTYPE=image/jpeg:https://askforarts.org/wp-content/uploads/2026/03/Got2Lindy_bigger.jpg
END:VEVENT
BEGIN:VEVENT
DTSTART;TZID=America/New_York:20261020T180000
DTEND;TZID=America/New_York:20261020T210000
DTSTAMP:20260422T071651
CREATED:20260323T005842Z
LAST-MODIFIED:20260323T010041Z
UID:10000066-1792519200-1792530000@askforarts.org
SUMMARY:Got2Lindy Swing Dance Classes
DESCRIPTION:Got2Lindy Swing Dance Lessons \n\n\n\nBeginner to Advance\n\n\n\n\nEvery Tuesday Night @ ASK6pm-9pm \n\n\n\n\n4-week sessions:6:00 pm – 7:00 pm: Beginner Swing7:00 pm – 8:00 pm: Intermediate Swing8:00 pm – 9:00 pm: Advanced Swing \n\n\n\nRegister Here!
URL:https://askforarts.org/event/got2lindy-swing-dance-classes-3/2026-10-20/
CATEGORIES:Weekly Events
ATTACH;FMTTYPE=image/jpeg:https://askforarts.org/wp-content/uploads/2026/03/Got2Lindy_bigger.jpg
END:VEVENT
BEGIN:VEVENT
DTSTART;TZID=America/New_York:20261027T180000
DTEND;TZID=America/New_York:20261027T210000
DTSTAMP:20260422T071651
CREATED:20260323T005842Z
LAST-MODIFIED:20260323T010041Z
UID:10000067-1793124000-1793134800@askforarts.org
SUMMARY:Got2Lindy Swing Dance Classes
DESCRIPTION:Got2Lindy Swing Dance Lessons \n\n\n\nBeginner to Advance\n\n\n\n\nEvery Tuesday Night @ ASK6pm-9pm \n\n\n\n\n4-week sessions:6:00 pm – 7:00 pm: Beginner Swing7:00 pm – 8:00 pm: Intermediate Swing8:00 pm – 9:00 pm: Advanced Swing \n\n\n\nRegister Here!
URL:https://askforarts.org/event/got2lindy-swing-dance-classes-3/2026-10-27/
CATEGORIES:Weekly Events
ATTACH;FMTTYPE=image/jpeg:https://askforarts.org/wp-content/uploads/2026/03/Got2Lindy_bigger.jpg
END:VEVENT
BEGIN:VEVENT
DTSTART;TZID=America/New_York:20261103T180000
DTEND;TZID=America/New_York:20261103T210000
DTSTAMP:20260422T071651
CREATED:20260323T005842Z
LAST-MODIFIED:20260323T010041Z
UID:10000068-1793728800-1793739600@askforarts.org
SUMMARY:Got2Lindy Swing Dance Classes
DESCRIPTION:Got2Lindy Swing Dance Lessons \n\n\n\nBeginner to Advance\n\n\n\n\nEvery Tuesday Night @ ASK6pm-9pm \n\n\n\n\n4-week sessions:6:00 pm – 7:00 pm: Beginner Swing7:00 pm – 8:00 pm: Intermediate Swing8:00 pm – 9:00 pm: Advanced Swing \n\n\n\nRegister Here!
URL:https://askforarts.org/event/got2lindy-swing-dance-classes-3/2026-11-03/
CATEGORIES:Weekly Events
ATTACH;FMTTYPE=image/jpeg:https://askforarts.org/wp-content/uploads/2026/03/Got2Lindy_bigger.jpg
END:VEVENT
BEGIN:VEVENT
DTSTART;TZID=America/New_York:20261110T180000
DTEND;TZID=America/New_York:20261110T210000
DTSTAMP:20260422T071651
CREATED:20260323T005842Z
LAST-MODIFIED:20260323T010041Z
UID:10000069-1794333600-1794344400@askforarts.org
SUMMARY:Got2Lindy Swing Dance Classes
DESCRIPTION:Got2Lindy Swing Dance Lessons \n\n\n\nBeginner to Advance\n\n\n\n\nEvery Tuesday Night @ ASK6pm-9pm \n\n\n\n\n4-week sessions:6:00 pm – 7:00 pm: Beginner Swing7:00 pm – 8:00 pm: Intermediate Swing8:00 pm – 9:00 pm: Advanced Swing \n\n\n\nRegister Here!
URL:https://askforarts.org/event/got2lindy-swing-dance-classes-3/2026-11-10/
CATEGORIES:Weekly Events
ATTACH;FMTTYPE=image/jpeg:https://askforarts.org/wp-content/uploads/2026/03/Got2Lindy_bigger.jpg
END:VEVENT
BEGIN:VEVENT
DTSTART;TZID=America/New_York:20261117T180000
DTEND;TZID=America/New_York:20261117T210000
DTSTAMP:20260422T071651
CREATED:20260323T005842Z
LAST-MODIFIED:20260323T010041Z
UID:10000070-1794938400-1794949200@askforarts.org
SUMMARY:Got2Lindy Swing Dance Classes
DESCRIPTION:Got2Lindy Swing Dance Lessons \n\n\n\nBeginner to Advance\n\n\n\n\nEvery Tuesday Night @ ASK6pm-9pm \n\n\n\n\n4-week sessions:6:00 pm – 7:00 pm: Beginner Swing7:00 pm – 8:00 pm: Intermediate Swing8:00 pm – 9:00 pm: Advanced Swing \n\n\n\nRegister Here!
URL:https://askforarts.org/event/got2lindy-swing-dance-classes-3/2026-11-17/
CATEGORIES:Weekly Events
ATTACH;FMTTYPE=image/jpeg:https://askforarts.org/wp-content/uploads/2026/03/Got2Lindy_bigger.jpg
END:VEVENT
END:VCALENDAR