BEGIN:VCALENDAR
VERSION:2.0
PRODID:-//Arts Society of Kingston - ECPv6.15.20//NONSGML v1.0//EN
CALSCALE:GREGORIAN
METHOD:PUBLISH
X-ORIGINAL-URL:https://askforarts.org
X-WR-CALDESC:Events for Arts Society of Kingston
REFRESH-INTERVAL;VALUE=DURATION:PT1H
X-Robots-Tag:noindex
X-PUBLISHED-TTL:PT1H
BEGIN:VTIMEZONE
TZID:America/New_York
BEGIN:DAYLIGHT
TZOFFSETFROM:-0500
TZOFFSETTO:-0400
TZNAME:EDT
DTSTART:20240310T070000
END:DAYLIGHT
BEGIN:STANDARD
TZOFFSETFROM:-0400
TZOFFSETTO:-0500
TZNAME:EST
DTSTART:20241103T060000
END:STANDARD
BEGIN:DAYLIGHT
TZOFFSETFROM:-0500
TZOFFSETTO:-0400
TZNAME:EDT
DTSTART:20250309T070000
END:DAYLIGHT
BEGIN:STANDARD
TZOFFSETFROM:-0400
TZOFFSETTO:-0500
TZNAME:EST
DTSTART:20251102T060000
END:STANDARD
BEGIN:DAYLIGHT
TZOFFSETFROM:-0500
TZOFFSETTO:-0400
TZNAME:EDT
DTSTART:20260308T070000
END:DAYLIGHT
BEGIN:STANDARD
TZOFFSETFROM:-0400
TZOFFSETTO:-0500
TZNAME:EST
DTSTART:20261101T060000
END:STANDARD
BEGIN:DAYLIGHT
TZOFFSETFROM:-0500
TZOFFSETTO:-0400
TZNAME:EDT
DTSTART:20270314T070000
END:DAYLIGHT
BEGIN:STANDARD
TZOFFSETFROM:-0400
TZOFFSETTO:-0500
TZNAME:EST
DTSTART:20271107T060000
END:STANDARD
END:VTIMEZONE
BEGIN:VEVENT
DTSTART;TZID=America/New_York:20260120T180000
DTEND;TZID=America/New_York:20260120T210000
DTSTAMP:20260422T182440
CREATED:20260323T005842Z
LAST-MODIFIED:20260323T010041Z
UID:10000485-1768932000-1768942800@askforarts.org
SUMMARY:Got2Lindy Swing Dance Classes
DESCRIPTION:Got2Lindy Swing Dance Lessons \n\n\n\nBeginner to Advance\n\n\n\n\nEvery Tuesday Night @ ASK6pm-9pm \n\n\n\n\n4-week sessions:6:00 pm – 7:00 pm: Beginner Swing7:00 pm – 8:00 pm: Intermediate Swing8:00 pm – 9:00 pm: Advanced Swing \n\n\n\nRegister Here!
URL:https://askforarts.org/event/got2lindy-swing-dance-classes-3/2026-01-20/
CATEGORIES:Weekly Events
ATTACH;FMTTYPE=image/jpeg:https://askforarts.org/wp-content/uploads/2026/03/Got2Lindy_bigger.jpg
END:VEVENT
BEGIN:VEVENT
DTSTART;TZID=America/New_York:20260113T180000
DTEND;TZID=America/New_York:20260113T210000
DTSTAMP:20260422T182440
CREATED:20260323T005842Z
LAST-MODIFIED:20260323T010041Z
UID:10000484-1768327200-1768338000@askforarts.org
SUMMARY:Got2Lindy Swing Dance Classes
DESCRIPTION:Got2Lindy Swing Dance Lessons \n\n\n\nBeginner to Advance\n\n\n\n\nEvery Tuesday Night @ ASK6pm-9pm \n\n\n\n\n4-week sessions:6:00 pm – 7:00 pm: Beginner Swing7:00 pm – 8:00 pm: Intermediate Swing8:00 pm – 9:00 pm: Advanced Swing \n\n\n\nRegister Here!
URL:https://askforarts.org/event/got2lindy-swing-dance-classes-3/2026-01-13/
CATEGORIES:Weekly Events
ATTACH;FMTTYPE=image/jpeg:https://askforarts.org/wp-content/uploads/2026/03/Got2Lindy_bigger.jpg
END:VEVENT
BEGIN:VEVENT
DTSTART;TZID=America/New_York:20260106T180000
DTEND;TZID=America/New_York:20260106T210000
DTSTAMP:20260422T182440
CREATED:20260323T005842Z
LAST-MODIFIED:20260323T010041Z
UID:10000483-1767722400-1767733200@askforarts.org
SUMMARY:Got2Lindy Swing Dance Classes
DESCRIPTION:Got2Lindy Swing Dance Lessons \n\n\n\nBeginner to Advance\n\n\n\n\nEvery Tuesday Night @ ASK6pm-9pm \n\n\n\n\n4-week sessions:6:00 pm – 7:00 pm: Beginner Swing7:00 pm – 8:00 pm: Intermediate Swing8:00 pm – 9:00 pm: Advanced Swing \n\n\n\nRegister Here!
URL:https://askforarts.org/event/got2lindy-swing-dance-classes-3/2026-01-06/
CATEGORIES:Weekly Events
ATTACH;FMTTYPE=image/jpeg:https://askforarts.org/wp-content/uploads/2026/03/Got2Lindy_bigger.jpg
END:VEVENT
BEGIN:VEVENT
DTSTART;TZID=America/New_York:20251230T180000
DTEND;TZID=America/New_York:20251230T210000
DTSTAMP:20260422T182440
CREATED:20260323T005842Z
LAST-MODIFIED:20260323T010041Z
UID:10000482-1767117600-1767128400@askforarts.org
SUMMARY:Got2Lindy Swing Dance Classes
DESCRIPTION:Got2Lindy Swing Dance Lessons \n\n\n\nBeginner to Advance\n\n\n\n\nEvery Tuesday Night @ ASK6pm-9pm \n\n\n\n\n4-week sessions:6:00 pm – 7:00 pm: Beginner Swing7:00 pm – 8:00 pm: Intermediate Swing8:00 pm – 9:00 pm: Advanced Swing \n\n\n\nRegister Here!
URL:https://askforarts.org/event/got2lindy-swing-dance-classes-3/2025-12-30/
CATEGORIES:Weekly Events
ATTACH;FMTTYPE=image/jpeg:https://askforarts.org/wp-content/uploads/2026/03/Got2Lindy_bigger.jpg
END:VEVENT
BEGIN:VEVENT
DTSTART;TZID=America/New_York:20251223T180000
DTEND;TZID=America/New_York:20251223T210000
DTSTAMP:20260422T182440
CREATED:20260323T005842Z
LAST-MODIFIED:20260323T010041Z
UID:10000481-1766512800-1766523600@askforarts.org
SUMMARY:Got2Lindy Swing Dance Classes
DESCRIPTION:Got2Lindy Swing Dance Lessons \n\n\n\nBeginner to Advance\n\n\n\n\nEvery Tuesday Night @ ASK6pm-9pm \n\n\n\n\n4-week sessions:6:00 pm – 7:00 pm: Beginner Swing7:00 pm – 8:00 pm: Intermediate Swing8:00 pm – 9:00 pm: Advanced Swing \n\n\n\nRegister Here!
URL:https://askforarts.org/event/got2lindy-swing-dance-classes-3/2025-12-23/
CATEGORIES:Weekly Events
ATTACH;FMTTYPE=image/jpeg:https://askforarts.org/wp-content/uploads/2026/03/Got2Lindy_bigger.jpg
END:VEVENT
BEGIN:VEVENT
DTSTART;TZID=America/New_York:20251216T180000
DTEND;TZID=America/New_York:20251216T210000
DTSTAMP:20260422T182440
CREATED:20260323T005842Z
LAST-MODIFIED:20260323T010041Z
UID:10000480-1765908000-1765918800@askforarts.org
SUMMARY:Got2Lindy Swing Dance Classes
DESCRIPTION:Got2Lindy Swing Dance Lessons \n\n\n\nBeginner to Advance\n\n\n\n\nEvery Tuesday Night @ ASK6pm-9pm \n\n\n\n\n4-week sessions:6:00 pm – 7:00 pm: Beginner Swing7:00 pm – 8:00 pm: Intermediate Swing8:00 pm – 9:00 pm: Advanced Swing \n\n\n\nRegister Here!
URL:https://askforarts.org/event/got2lindy-swing-dance-classes-3/2025-12-16/
CATEGORIES:Weekly Events
ATTACH;FMTTYPE=image/jpeg:https://askforarts.org/wp-content/uploads/2026/03/Got2Lindy_bigger.jpg
END:VEVENT
BEGIN:VEVENT
DTSTART;TZID=America/New_York:20251209T180000
DTEND;TZID=America/New_York:20251209T210000
DTSTAMP:20260422T182440
CREATED:20260323T005842Z
LAST-MODIFIED:20260323T010041Z
UID:10000479-1765303200-1765314000@askforarts.org
SUMMARY:Got2Lindy Swing Dance Classes
DESCRIPTION:Got2Lindy Swing Dance Lessons \n\n\n\nBeginner to Advance\n\n\n\n\nEvery Tuesday Night @ ASK6pm-9pm \n\n\n\n\n4-week sessions:6:00 pm – 7:00 pm: Beginner Swing7:00 pm – 8:00 pm: Intermediate Swing8:00 pm – 9:00 pm: Advanced Swing \n\n\n\nRegister Here!
URL:https://askforarts.org/event/got2lindy-swing-dance-classes-3/2025-12-09/
CATEGORIES:Weekly Events
ATTACH;FMTTYPE=image/jpeg:https://askforarts.org/wp-content/uploads/2026/03/Got2Lindy_bigger.jpg
END:VEVENT
BEGIN:VEVENT
DTSTART;TZID=America/New_York:20251202T180000
DTEND;TZID=America/New_York:20251202T210000
DTSTAMP:20260422T182440
CREATED:20260323T005842Z
LAST-MODIFIED:20260323T010041Z
UID:10000478-1764698400-1764709200@askforarts.org
SUMMARY:Got2Lindy Swing Dance Classes
DESCRIPTION:Got2Lindy Swing Dance Lessons \n\n\n\nBeginner to Advance\n\n\n\n\nEvery Tuesday Night @ ASK6pm-9pm \n\n\n\n\n4-week sessions:6:00 pm – 7:00 pm: Beginner Swing7:00 pm – 8:00 pm: Intermediate Swing8:00 pm – 9:00 pm: Advanced Swing \n\n\n\nRegister Here!
URL:https://askforarts.org/event/got2lindy-swing-dance-classes-3/2025-12-02/
CATEGORIES:Weekly Events
ATTACH;FMTTYPE=image/jpeg:https://askforarts.org/wp-content/uploads/2026/03/Got2Lindy_bigger.jpg
END:VEVENT
BEGIN:VEVENT
DTSTART;TZID=America/New_York:20251125T180000
DTEND;TZID=America/New_York:20251125T210000
DTSTAMP:20260422T182440
CREATED:20260323T005842Z
LAST-MODIFIED:20260323T010041Z
UID:10000477-1764093600-1764104400@askforarts.org
SUMMARY:Got2Lindy Swing Dance Classes
DESCRIPTION:Got2Lindy Swing Dance Lessons \n\n\n\nBeginner to Advance\n\n\n\n\nEvery Tuesday Night @ ASK6pm-9pm \n\n\n\n\n4-week sessions:6:00 pm – 7:00 pm: Beginner Swing7:00 pm – 8:00 pm: Intermediate Swing8:00 pm – 9:00 pm: Advanced Swing \n\n\n\nRegister Here!
URL:https://askforarts.org/event/got2lindy-swing-dance-classes-3/2025-11-25/
CATEGORIES:Weekly Events
ATTACH;FMTTYPE=image/jpeg:https://askforarts.org/wp-content/uploads/2026/03/Got2Lindy_bigger.jpg
END:VEVENT
BEGIN:VEVENT
DTSTART;TZID=America/New_York:20251118T180000
DTEND;TZID=America/New_York:20251118T210000
DTSTAMP:20260422T182440
CREATED:20260323T005842Z
LAST-MODIFIED:20260323T010041Z
UID:10000476-1763488800-1763499600@askforarts.org
SUMMARY:Got2Lindy Swing Dance Classes
DESCRIPTION:Got2Lindy Swing Dance Lessons \n\n\n\nBeginner to Advance\n\n\n\n\nEvery Tuesday Night @ ASK6pm-9pm \n\n\n\n\n4-week sessions:6:00 pm – 7:00 pm: Beginner Swing7:00 pm – 8:00 pm: Intermediate Swing8:00 pm – 9:00 pm: Advanced Swing \n\n\n\nRegister Here!
URL:https://askforarts.org/event/got2lindy-swing-dance-classes-3/2025-11-18/
CATEGORIES:Weekly Events
ATTACH;FMTTYPE=image/jpeg:https://askforarts.org/wp-content/uploads/2026/03/Got2Lindy_bigger.jpg
END:VEVENT
BEGIN:VEVENT
DTSTART;TZID=America/New_York:20251111T180000
DTEND;TZID=America/New_York:20251111T210000
DTSTAMP:20260422T182440
CREATED:20260323T005842Z
LAST-MODIFIED:20260323T010041Z
UID:10000475-1762884000-1762894800@askforarts.org
SUMMARY:Got2Lindy Swing Dance Classes
DESCRIPTION:Got2Lindy Swing Dance Lessons \n\n\n\nBeginner to Advance\n\n\n\n\nEvery Tuesday Night @ ASK6pm-9pm \n\n\n\n\n4-week sessions:6:00 pm – 7:00 pm: Beginner Swing7:00 pm – 8:00 pm: Intermediate Swing8:00 pm – 9:00 pm: Advanced Swing \n\n\n\nRegister Here!
URL:https://askforarts.org/event/got2lindy-swing-dance-classes-3/2025-11-11/
CATEGORIES:Weekly Events
ATTACH;FMTTYPE=image/jpeg:https://askforarts.org/wp-content/uploads/2026/03/Got2Lindy_bigger.jpg
END:VEVENT
BEGIN:VEVENT
DTSTART;TZID=America/New_York:20251104T180000
DTEND;TZID=America/New_York:20251104T210000
DTSTAMP:20260422T182440
CREATED:20260323T005842Z
LAST-MODIFIED:20260323T010041Z
UID:10000474-1762279200-1762290000@askforarts.org
SUMMARY:Got2Lindy Swing Dance Classes
DESCRIPTION:Got2Lindy Swing Dance Lessons \n\n\n\nBeginner to Advance\n\n\n\n\nEvery Tuesday Night @ ASK6pm-9pm \n\n\n\n\n4-week sessions:6:00 pm – 7:00 pm: Beginner Swing7:00 pm – 8:00 pm: Intermediate Swing8:00 pm – 9:00 pm: Advanced Swing \n\n\n\nRegister Here!
URL:https://askforarts.org/event/got2lindy-swing-dance-classes-3/2025-11-04/
CATEGORIES:Weekly Events
ATTACH;FMTTYPE=image/jpeg:https://askforarts.org/wp-content/uploads/2026/03/Got2Lindy_bigger.jpg
END:VEVENT
BEGIN:VEVENT
DTSTART;TZID=America/New_York:20251028T180000
DTEND;TZID=America/New_York:20251028T210000
DTSTAMP:20260422T182440
CREATED:20260323T005842Z
LAST-MODIFIED:20260323T010041Z
UID:10000036-1761674400-1761685200@askforarts.org
SUMMARY:Got2Lindy Swing Dance Classes
DESCRIPTION:Got2Lindy Swing Dance Lessons \n\n\n\nBeginner to Advance\n\n\n\n\nEvery Tuesday Night @ ASK6pm-9pm \n\n\n\n\n4-week sessions:6:00 pm – 7:00 pm: Beginner Swing7:00 pm – 8:00 pm: Intermediate Swing8:00 pm – 9:00 pm: Advanced Swing \n\n\n\nRegister Here!
URL:https://askforarts.org/event/got2lindy-swing-dance-classes-3/2025-10-28/
CATEGORIES:Weekly Events
ATTACH;FMTTYPE=image/jpeg:https://askforarts.org/wp-content/uploads/2026/03/Got2Lindy_bigger.jpg
END:VEVENT
END:VCALENDAR