BEGIN:VCALENDAR
VERSION:2.0
PRODID:-//Arts Society of Kingston - ECPv6.15.20//NONSGML v1.0//EN
CALSCALE:GREGORIAN
METHOD:PUBLISH
X-ORIGINAL-URL:https://askforarts.org
X-WR-CALDESC:Events for Arts Society of Kingston
REFRESH-INTERVAL;VALUE=DURATION:PT1H
X-Robots-Tag:noindex
X-PUBLISHED-TTL:PT1H
BEGIN:VTIMEZONE
TZID:America/New_York
BEGIN:DAYLIGHT
TZOFFSETFROM:-0500
TZOFFSETTO:-0400
TZNAME:EDT
DTSTART:20250309T070000
END:DAYLIGHT
BEGIN:STANDARD
TZOFFSETFROM:-0400
TZOFFSETTO:-0500
TZNAME:EST
DTSTART:20251102T060000
END:STANDARD
BEGIN:DAYLIGHT
TZOFFSETFROM:-0500
TZOFFSETTO:-0400
TZNAME:EDT
DTSTART:20260308T070000
END:DAYLIGHT
BEGIN:STANDARD
TZOFFSETFROM:-0400
TZOFFSETTO:-0500
TZNAME:EST
DTSTART:20261101T060000
END:STANDARD
BEGIN:DAYLIGHT
TZOFFSETFROM:-0500
TZOFFSETTO:-0400
TZNAME:EDT
DTSTART:20270314T070000
END:DAYLIGHT
BEGIN:STANDARD
TZOFFSETFROM:-0400
TZOFFSETTO:-0500
TZNAME:EST
DTSTART:20271107T060000
END:STANDARD
END:VTIMEZONE
BEGIN:VEVENT
DTSTART;TZID=America/New_York:20260629T000000
DTEND;TZID=America/New_York:20260726T235959
DTSTAMP:20260422T144731
CREATED:20260313T175206Z
LAST-MODIFIED:20260411T200713Z
UID:10000382-1782691200-1785110399@askforarts.org
SUMMARY:The Rep: Summer Theater Camp
DESCRIPTION:THE REP! Announces Summer Theater Camp 2026 at Arts Society of Kingston\n\n\n\nA New Professional-Driven Musical Theater Institute for Youth Ages 13–17 \n\n\n\nCome be a part of a vibrant community of young theater artists in this 4-week camp culminating in a weekend of performances! \n\n\n\n\nJune 29 through July 26\, 2026Weekdays 9am – 3pmDress Rehearsals Thursday July 23 and Friday July 24Performances July 24-26\, 2026 \n\n\n\n\nKingston\, NY — THE REP!\, a newly formed independent youth theater company\, is proud to announce its inaugural REP! Summer Theater Camp 2026\, taking place at the Arts Society of Kingston. Running June 29 through July 26\, 2026\, this month-long musical theater institute invites young creatives ages 13–17 to become the founding REP Ensemble of performers\, producers\, musicians\, and technicians. \n\n\n\nCreated and led by professional musical theater directors\, composers\, and producers\, THE REP! offers an immersive\, hands-on training experience rooted in collaboration and excellence of craft. Ensemble members will learn the full structure of theatrical production\, including acting\, movement\, musicianship\, management\, and design. Each participant will rotate through multiple roles—onstage and behind the scenes—mirroring the collaborative nature of professional theater-making.  \n\n\n\nSeth Bodie is a theatre designer and educator with 30 years of production experience that spans the globe. Dani Super is a talent manager and acting coach who has worked in film\, television and theatre for three decades. Mike Davis is a musician with decades of professional experience as a performer\, composer\, producer and recording/mix engineer. \n\n\n\nCamp meets weekdays from 9:00am to 3:00pm\, with extended technical and dress rehearsal days on Thursday\, July 23 and Friday\, July 24. The program culminates in a weekend of fully staged live performances\, presented July 24–26\, marking the debut production of THE REP! Ensemble. \n\n\n\nEnrollment is now open!  \n\n\n\nFamilies can learn more and register online.
URL:https://askforarts.org/event/therep-summer-theater-camp/
LOCATION:NY
ATTACH;FMTTYPE=application/pdf:https://askforarts.org/wp-content/uploads/2026/03/TheRep-GODSPELL_trimmed.pdf
END:VEVENT
END:VCALENDAR