BEGIN:VCALENDAR
VERSION:2.0
PRODID:-//Arts Society of Kingston - ECPv6.15.20//NONSGML v1.0//EN
CALSCALE:GREGORIAN
METHOD:PUBLISH
X-ORIGINAL-URL:https://askforarts.org
X-WR-CALDESC:Events for Arts Society of Kingston
REFRESH-INTERVAL;VALUE=DURATION:PT1H
X-Robots-Tag:noindex
X-PUBLISHED-TTL:PT1H
BEGIN:VTIMEZONE
TZID:America/New_York
BEGIN:DAYLIGHT
TZOFFSETFROM:-0500
TZOFFSETTO:-0400
TZNAME:EDT
DTSTART:20250309T070000
END:DAYLIGHT
BEGIN:STANDARD
TZOFFSETFROM:-0400
TZOFFSETTO:-0500
TZNAME:EST
DTSTART:20251102T060000
END:STANDARD
BEGIN:DAYLIGHT
TZOFFSETFROM:-0500
TZOFFSETTO:-0400
TZNAME:EDT
DTSTART:20260308T070000
END:DAYLIGHT
BEGIN:STANDARD
TZOFFSETFROM:-0400
TZOFFSETTO:-0500
TZNAME:EST
DTSTART:20261101T060000
END:STANDARD
BEGIN:DAYLIGHT
TZOFFSETFROM:-0500
TZOFFSETTO:-0400
TZNAME:EDT
DTSTART:20270314T070000
END:DAYLIGHT
BEGIN:STANDARD
TZOFFSETFROM:-0400
TZOFFSETTO:-0500
TZNAME:EST
DTSTART:20271107T060000
END:STANDARD
END:VTIMEZONE
BEGIN:VEVENT
DTSTART;TZID=America/New_York:20260322T120000
DTEND;TZID=America/New_York:20260322T170000
DTSTAMP:20260422T120654
CREATED:20260322T200350Z
LAST-MODIFIED:20260322T201112Z
UID:10000404-1774180800-1774198800@askforarts.org
SUMMARY:Storm Collector
DESCRIPTION:Storm Collector: Artwork by Andrea Park\n\n\n\n\nShowing in the Front Gallery \n\n\n\n\n\nOpening Reception March 7th @ 3pm\n\n\n\nExhibition March 7 – 29\, 2026\n\n\n\nASK Gallery Hours: Fri – Sun\, Noon – 5pm
URL:https://askforarts.org/event/storm-collector/2026-03-22/
LOCATION:NY
CATEGORIES:Monthly Show
ATTACH;FMTTYPE=image/jpeg:https://askforarts.org/wp-content/uploads/2026/02/Storm_Collector.jpg
END:VEVENT
BEGIN:VEVENT
DTSTART;TZID=America/New_York:20260322T120000
DTEND;TZID=America/New_York:20260322T170000
DTSTAMP:20260422T120654
CREATED:20260322T200728Z
LAST-MODIFIED:20260421T013714Z
UID:10000415-1774180800-1774198800@askforarts.org
SUMMARY:Petals & Pollinators: Illustrating Between the Bees
DESCRIPTION:Petals & Pollinators: Illustrating Between the Bees\n\n\n\n\nShowing in the Members Gallery \n\n\n\n\n\nOpening Reception May 2nd @ 3pm\n\n\n\nExhibition May 2 – 31\, 2026\n\n\n\nASK Gallery Hours: Thurs – Sun\, Noon – 5pm \n\n\n\n\n\nThis exhibition features work that examines the beauty\, fragility\, and interdependence of ecological systems from the intimate exchange of pollen to the broader environmental narratives of climate change\, habitat loss\, and biodiversity. Through all visual mediums\, artists interpret “between the bees” expansively: as a literal space of ecological exchange\, a metaphor for collaboration and community\, or a meditation on the delicate balance that sustains life. \n\n\n\nFeatured member artists: Larry Arvidson\, Bob Barnes\, Lawrence Bush\, Michael DiPleco\, Stacie Flint\, Melissa Forbes\, Terry Haas\, Tom Hackett\, Emeline Hastings\, Laura Helfant\, Kim Henry\, Barbara Holt\, David Holt\, Carrie Hotz-Barth\, Locke Johnston\, David Joseph\, Tom Looney\, Joel Mandelbaum\, Debbie Martin\, James McCann\, Carol McCarthy\, Julie Michels-Ruiz.
URL:https://askforarts.org/event/h2o/2026-03-22/
LOCATION:NY
CATEGORIES:Monthly Show
ATTACH;FMTTYPE=image/jpeg:https://askforarts.org/wp-content/uploads/2026/02/H2O_feature.jpg
END:VEVENT
END:VCALENDAR