BEGIN:VCALENDAR
VERSION:2.0
PRODID:-//Arts Society of Kingston - ECPv6.15.20//NONSGML v1.0//EN
CALSCALE:GREGORIAN
METHOD:PUBLISH
X-WR-CALNAME:Arts Society of Kingston
X-ORIGINAL-URL:https://askforarts.org
X-WR-CALDESC:Events for Arts Society of Kingston
REFRESH-INTERVAL;VALUE=DURATION:PT1H
X-Robots-Tag:noindex
X-PUBLISHED-TTL:PT1H
BEGIN:VTIMEZONE
TZID:America/New_York
BEGIN:DAYLIGHT
TZOFFSETFROM:-0500
TZOFFSETTO:-0400
TZNAME:EDT
DTSTART:20250309T070000
END:DAYLIGHT
BEGIN:STANDARD
TZOFFSETFROM:-0400
TZOFFSETTO:-0500
TZNAME:EST
DTSTART:20251102T060000
END:STANDARD
BEGIN:DAYLIGHT
TZOFFSETFROM:-0500
TZOFFSETTO:-0400
TZNAME:EDT
DTSTART:20260308T070000
END:DAYLIGHT
BEGIN:STANDARD
TZOFFSETFROM:-0400
TZOFFSETTO:-0500
TZNAME:EST
DTSTART:20261101T060000
END:STANDARD
BEGIN:DAYLIGHT
TZOFFSETFROM:-0500
TZOFFSETTO:-0400
TZNAME:EDT
DTSTART:20270314T070000
END:DAYLIGHT
BEGIN:STANDARD
TZOFFSETFROM:-0400
TZOFFSETTO:-0500
TZNAME:EST
DTSTART:20271107T060000
END:STANDARD
END:VTIMEZONE
BEGIN:VEVENT
DTSTART;TZID=America/New_York:20260218T180000
DTEND;TZID=America/New_York:20260218T210000
DTSTAMP:20260422T132322
CREATED:20260222T224719Z
LAST-MODIFIED:20260223T150609Z
UID:10000132-1771437600-1771448400@askforarts.org
SUMMARY:Hudson Valley Improv
DESCRIPTION:Hudson Valley Improv is right here at ASK.  Come see one of their award-winning shows—always fast\, funny\, and completely made up on the spot. Or jump into one of their improv classes\, designed for adults of all levels\, where you’ll laugh\, connect\, and surprise yourself with what you can do. Looking for something more personal? They also offer private coaching for solo shows and team training that brings people together\, builds confidence\, and makes communication easier and more fun.
URL:https://askforarts.org/event/hudson-valley-improv-3/2026-02-18/
LOCATION:NY
CATEGORIES:Weekly Events
ATTACH;FMTTYPE=image/jpeg:https://askforarts.org/wp-content/uploads/2025/12/classes.jpg
END:VEVENT
END:VCALENDAR